Package: MCbiclust Version: 1.34.0 Command: /home/biocbuild/bbs-3.22-bioc/R/bin/R CMD INSTALL MCbiclust StartedAt: 2025-11-20 16:37:33 -0500 (Thu, 20 Nov 2025) EndedAt: 2025-11-20 16:37:55 -0500 (Thu, 20 Nov 2025) EllapsedTime: 21.9 seconds RetCode: 0 Status: OK