Package: MBttest Version: 1.38.0 Command: /home/biocbuild/bbs-3.22-bioc/R/bin/R CMD check --install=check:MBttest.install-out.txt --library=/home/biocbuild/bbs-3.22-bioc/R/site-library --timings MBttest_1.38.0.tar.gz StartedAt: 2025-11-15 01:21:10 -0500 (Sat, 15 Nov 2025) EndedAt: 2025-11-15 01:22:52 -0500 (Sat, 15 Nov 2025) EllapsedTime: 102.1 seconds RetCode: 0 Status: OK CheckDir: MBttest.Rcheck Warnings: 0