Package: MBttest Version: 1.36.0 Command: rm -rf MBttest.buildbin-libdir && mkdir MBttest.buildbin-libdir && /Users/biocbuild/BBS/utils/build-universal.sh MBttest_1.36.0.tar.gz /Library/Frameworks/R.framework/Resources/bin/R MBttest.buildbin-libdir StartedAt: 2025-04-21 22:40:57 -0400 (Mon, 21 Apr 2025) EndedAt: 2025-04-21 22:40:59 -0400 (Mon, 21 Apr 2025) EllapsedTime: 2.0 seconds RetCode: 0 Status: OK PackageFile: MBttest_1.36.0.tgz PackageFileSize: 2.588 MiB