Package: MBQN Version: 2.22.0 Command: /home/biocbuild/bbs-3.22-bioc/R/bin/R CMD build --keep-empty-dirs --no-resave-data --md5 MBQN StartedAt: 2025-11-11 18:36:00 -0500 (Tue, 11 Nov 2025) EndedAt: 2025-11-11 18:36:09 -0500 (Tue, 11 Nov 2025) EllapsedTime: 9.0 seconds RetCode: 0 Status: OK PackageFile: MBQN_2.22.0.tar.gz PackageFileSize: 214.6 KiB