Package: MBQN Version: 2.22.0 Command: /Library/Frameworks/R.framework/Resources/bin/R CMD INSTALL MBQN StartedAt: 2025-11-10 15:13:42 -0500 (Mon, 10 Nov 2025) EndedAt: 2025-11-10 15:13:44 -0500 (Mon, 10 Nov 2025) EllapsedTime: 2.2 seconds RetCode: 0 Status: OK