Package: MBQN Version: 2.22.0 Command: /Library/Frameworks/R.framework/Resources/bin/R CMD build --keep-empty-dirs --no-resave-data MBQN StartedAt: 2025-11-10 16:54:50 -0500 (Mon, 10 Nov 2025) EndedAt: 2025-11-10 16:54:54 -0500 (Mon, 10 Nov 2025) EllapsedTime: 4.0 seconds RetCode: 0 Status: OK PackageFile: MBQN_2.22.0.tar.gz PackageFileSize: 220.8 KiB