Package: MBQN Version: 2.22.0 Command: rm -rf MBQN.buildbin-libdir && mkdir MBQN.buildbin-libdir && /Users/biocbuild/BBS/utils/build-universal.sh MBQN_2.22.0.tar.gz /Library/Frameworks/R.framework/Resources/bin/R MBQN.buildbin-libdir StartedAt: 2025-11-10 23:25:41 -0500 (Mon, 10 Nov 2025) EndedAt: 2025-11-10 23:25:43 -0500 (Mon, 10 Nov 2025) EllapsedTime: 2.0 seconds RetCode: 0 Status: OK PackageFile: MBQN_2.22.0.tgz PackageFileSize: 283.9 KiB