Package: MBECS Version: 1.14.0 Command: /home/biocbuild/R/R/bin/R CMD INSTALL MBECS StartedAt: 2025-11-13 21:37:19 -0000 (Thu, 13 Nov 2025) EndedAt: 2025-11-13 21:37:47 -0000 (Thu, 13 Nov 2025) EllapsedTime: 28.1 seconds RetCode: 0 Status: OK