Package: MBECS Version: 1.14.0 Command: /home/biocbuild/R/R/bin/R CMD build --keep-empty-dirs --no-resave-data MBECS StartedAt: 2025-11-14 03:00:36 -0000 (Fri, 14 Nov 2025) EndedAt: 2025-11-14 03:02:17 -0000 (Fri, 14 Nov 2025) EllapsedTime: 101.0 seconds RetCode: 0 Status: OK PackageFile: MBECS_1.14.0.tar.gz PackageFileSize: 1.488 MiB