Package: MBECS Version: 1.14.0 Command: /home/biocbuild/bbs-3.22-bioc/R/bin/R CMD INSTALL MBECS StartedAt: 2025-11-11 15:33:02 -0500 (Tue, 11 Nov 2025) EndedAt: 2025-11-11 15:33:23 -0500 (Tue, 11 Nov 2025) EllapsedTime: 21.3 seconds RetCode: 0 Status: OK