Package: MBECS Version: 1.12.0 Command: rm -rf MBECS.buildbin-libdir && mkdir MBECS.buildbin-libdir && /Users/biocbuild/BBS/utils/build-universal.sh MBECS_1.12.0.tar.gz /Library/Frameworks/R.framework/Resources/bin/R MBECS.buildbin-libdir StartedAt: 2025-10-14 13:56:05 -0400 (Tue, 14 Oct 2025) EndedAt: 2025-10-14 13:57:28 -0400 (Tue, 14 Oct 2025) EllapsedTime: 83.1 seconds RetCode: 0 Status: OK PackageFile: MBECS_1.12.0.tgz PackageFileSize: 805.3 KiB