Package: MBECS Version: 1.12.0 Command: /Library/Frameworks/R.framework/Resources/bin/R CMD build --keep-empty-dirs --no-resave-data MBECS StartedAt: 2025-09-26 03:26:53 -0400 (Fri, 26 Sep 2025) EndedAt: 2025-09-26 03:28:14 -0400 (Fri, 26 Sep 2025) EllapsedTime: 81.6 seconds RetCode: 0 Status: OK PackageFile: MBECS_1.12.0.tar.gz PackageFileSize: 1.727 MiB