Package: MBCB Version: 1.64.0 Command: /home/biocbuild/bbs-3.22-bioc/R/bin/R CMD INSTALL MBCB StartedAt: 2025-11-11 15:16:01 -0500 (Tue, 11 Nov 2025) EndedAt: 2025-11-11 15:16:04 -0500 (Tue, 11 Nov 2025) EllapsedTime: 2.6 seconds RetCode: 0 Status: OK