Package: MBCB Version: 1.62.0 Command: /home/biocbuild/R/R/bin/R CMD INSTALL MBCB StartedAt: 2025-10-13 20:23:00 -0000 (Mon, 13 Oct 2025) EndedAt: 2025-10-13 20:23:08 -0000 (Mon, 13 Oct 2025) EllapsedTime: 7.5 seconds RetCode: 0 Status: OK