Package: MBCB Version: 1.62.0 Command: /home/biocbuild/R/R/bin/R CMD build --keep-empty-dirs --no-resave-data MBCB StartedAt: 2025-10-14 02:09:38 -0000 (Tue, 14 Oct 2025) EndedAt: 2025-10-14 02:09:46 -0000 (Tue, 14 Oct 2025) EllapsedTime: 8.0 seconds RetCode: 0 Status: OK PackageFile: MBCB_1.62.0.tar.gz PackageFileSize: 404.2 KiB