Package: MBAmethyl Version: 1.42.0 Command: /home/biocbuild/R/R/bin/R CMD INSTALL MBAmethyl StartedAt: 2025-10-13 20:12:20 -0000 (Mon, 13 Oct 2025) EndedAt: 2025-10-13 20:12:30 -0000 (Mon, 13 Oct 2025) EllapsedTime: 10.4 seconds RetCode: 0 Status: OK