Package: MBAmethyl Version: 1.42.0 Command: /home/biocbuild/R/R/bin/R CMD build --keep-empty-dirs --no-resave-data MBAmethyl StartedAt: 2025-10-14 02:09:22 -0000 (Tue, 14 Oct 2025) EndedAt: 2025-10-14 02:09:38 -0000 (Tue, 14 Oct 2025) EllapsedTime: 16.0 seconds RetCode: 0 Status: OK PackageFile: MBAmethyl_1.42.0.tar.gz PackageFileSize: 84.6 KiB