Package: MBAmethyl Version: 1.44.0 Command: /Library/Frameworks/R.framework/Resources/bin/R CMD build --keep-empty-dirs --no-resave-data MBAmethyl StartedAt: 2025-11-06 16:53:51 -0500 (Thu, 06 Nov 2025) EndedAt: 2025-11-06 16:53:56 -0500 (Thu, 06 Nov 2025) EllapsedTime: 5.1 seconds RetCode: 0 Status: OK PackageFile: MBAmethyl_1.44.0.tar.gz PackageFileSize: 87.11 KiB