Package: MBAmethyl Version: 1.44.0 Command: rm -rf MBAmethyl.buildbin-libdir && mkdir MBAmethyl.buildbin-libdir && /Users/biocbuild/BBS/utils/build-universal.sh MBAmethyl_1.44.0.tar.gz /Library/Frameworks/R.framework/Resources/bin/R MBAmethyl.buildbin-libdir StartedAt: 2025-11-06 23:10:37 -0500 (Thu, 06 Nov 2025) EndedAt: 2025-11-06 23:10:39 -0500 (Thu, 06 Nov 2025) EllapsedTime: 2.0 seconds RetCode: 0 Status: OK PackageFile: MBAmethyl_1.44.0.tgz PackageFileSize: 111 KiB