Package: MBASED Version: 1.44.0 Command: /home/biocbuild/bbs-3.22-bioc/R/bin/R CMD INSTALL MBASED StartedAt: 2025-11-11 15:35:30 -0500 (Tue, 11 Nov 2025) EndedAt: 2025-11-11 15:35:52 -0500 (Tue, 11 Nov 2025) EllapsedTime: 21.8 seconds RetCode: 0 Status: OK