Package: MBASED Version: 1.44.0 Command: /home/biocbuild/bbs-3.22-bioc/R/bin/R CMD build --keep-empty-dirs --no-resave-data --md5 MBASED StartedAt: 2025-11-11 18:34:59 -0500 (Tue, 11 Nov 2025) EndedAt: 2025-11-11 18:36:44 -0500 (Tue, 11 Nov 2025) EllapsedTime: 105.1 seconds RetCode: 0 Status: OK PackageFile: MBASED_1.44.0.tar.gz PackageFileSize: 366.2 KiB