Package: MBASED Version: 1.44.0 Command: /Library/Frameworks/R.framework/Resources/bin/R CMD INSTALL MBASED StartedAt: 2025-11-10 15:17:47 -0500 (Mon, 10 Nov 2025) EndedAt: 2025-11-10 15:17:57 -0500 (Mon, 10 Nov 2025) EllapsedTime: 9.7 seconds RetCode: 0 Status: OK