Package: MBASED Version: 1.44.0 Command: /Library/Frameworks/R.framework/Resources/bin/R CMD build --keep-empty-dirs --no-resave-data MBASED StartedAt: 2025-11-10 16:54:21 -0500 (Mon, 10 Nov 2025) EndedAt: 2025-11-10 16:55:08 -0500 (Mon, 10 Nov 2025) EllapsedTime: 47.5 seconds RetCode: 0 Status: OK PackageFile: MBASED_1.44.0.tar.gz PackageFileSize: 364.3 KiB