Package: MAST Version: 1.36.0 Command: /home/biocbuild/bbs-3.22-bioc/R/bin/R CMD build --keep-empty-dirs --no-resave-data --md5 MAST StartedAt: 2025-11-11 18:34:07 -0500 (Tue, 11 Nov 2025) EndedAt: 2025-11-11 18:38:29 -0500 (Tue, 11 Nov 2025) EllapsedTime: 261.2 seconds RetCode: 0 Status: OK PackageFile: MAST_1.36.0.tar.gz PackageFileSize: 7.255 MiB