Package: MAST Version: 1.34.0 Command: /home/biocbuild/R/R/bin/R CMD INSTALL MAST StartedAt: 2025-10-13 20:33:48 -0000 (Mon, 13 Oct 2025) EndedAt: 2025-10-13 20:34:48 -0000 (Mon, 13 Oct 2025) EllapsedTime: 59.4 seconds RetCode: 0 Status: OK