Package: MAST Version: 1.34.0 Command: /home/biocbuild/R/R/bin/R CMD build --keep-empty-dirs --no-resave-data MAST StartedAt: 2025-10-14 02:08:22 -0000 (Tue, 14 Oct 2025) EndedAt: 2025-10-14 02:14:52 -0000 (Tue, 14 Oct 2025) EllapsedTime: 390.1 seconds RetCode: 1 Status: ERROR PackageFile: None PackageFileSize: NA