Package: MAST Version: 1.36.0 Command: /Library/Frameworks/R.framework/Resources/bin/R CMD INSTALL MAST StartedAt: 2025-11-03 15:12:44 -0500 (Mon, 03 Nov 2025) EndedAt: 2025-11-03 15:13:00 -0500 (Mon, 03 Nov 2025) EllapsedTime: 16.6 seconds RetCode: 0 Status: OK