Package: MAST Version: 1.36.0 Command: /Library/Frameworks/R.framework/Resources/bin/R CMD build --keep-empty-dirs --no-resave-data MAST StartedAt: 2025-10-31 16:57:11 -0400 (Fri, 31 Oct 2025) EndedAt: 2025-10-31 16:58:55 -0400 (Fri, 31 Oct 2025) EllapsedTime: 104.2 seconds RetCode: 0 Status: OK PackageFile: MAST_1.36.0.tar.gz PackageFileSize: 7.183 MiB