Package: MAPFX Version: 1.6.0 Command: /home/biocbuild/bbs-3.22-bioc/R/bin/R CMD build --keep-empty-dirs --no-resave-data --md5 MAPFX StartedAt: 2025-11-05 18:35:13 -0500 (Wed, 05 Nov 2025) EndedAt: 2025-11-05 18:42:36 -0500 (Wed, 05 Nov 2025) EllapsedTime: 443.4 seconds RetCode: 0 Status: OK PackageFile: MAPFX_1.6.0.tar.gz PackageFileSize: 3.545 MiB