Package: MANOR Version: 1.82.0 Command: /home/biocbuild/bbs-3.22-bioc/R/bin/R CMD INSTALL MANOR StartedAt: 2025-11-11 15:06:54 -0500 (Tue, 11 Nov 2025) EndedAt: 2025-11-11 15:07:04 -0500 (Tue, 11 Nov 2025) EllapsedTime: 10.5 seconds RetCode: 0 Status: OK