Package: MANOR Version: 1.82.0 Command: /Library/Frameworks/R.framework/Resources/bin/R CMD INSTALL MANOR StartedAt: 2025-11-03 15:01:35 -0500 (Mon, 03 Nov 2025) EndedAt: 2025-11-03 15:01:41 -0500 (Mon, 03 Nov 2025) EllapsedTime: 5.6 seconds RetCode: 0 Status: OK