Package: MAIT Version: 1.44.0 Command: /Library/Frameworks/R.framework/Resources/bin/R CMD INSTALL MAIT StartedAt: 2025-11-10 15:24:36 -0500 (Mon, 10 Nov 2025) EndedAt: 2025-11-10 15:24:57 -0500 (Mon, 10 Nov 2025) EllapsedTime: 21.1 seconds RetCode: 0 Status: OK