Package: MAIT Version: 1.44.0 Command: /Library/Frameworks/R.framework/Resources/bin/R CMD build --keep-empty-dirs --no-resave-data MAIT StartedAt: 2025-11-10 16:52:40 -0500 (Mon, 10 Nov 2025) EndedAt: 2025-11-10 16:53:12 -0500 (Mon, 10 Nov 2025) EllapsedTime: 32.4 seconds RetCode: 1 Status: ERROR PackageFile: None PackageFileSize: NA