Package: MAI Version: 1.16.0 Command: /home/biocbuild/bbs-3.22-bioc/R/bin/R CMD INSTALL MAI StartedAt: 2025-10-31 15:40:29 -0400 (Fri, 31 Oct 2025) EndedAt: 2025-10-31 15:40:59 -0400 (Fri, 31 Oct 2025) EllapsedTime: 30.1 seconds RetCode: 0 Status: OK