Package: MAGAR Version: 1.18.0 Command: rm -rf MAGAR.buildbin-libdir && mkdir MAGAR.buildbin-libdir && /Users/biocbuild/BBS/utils/build-universal.sh MAGAR_1.18.0.tar.gz /Library/Frameworks/R.framework/Resources/bin/R MAGAR.buildbin-libdir StartedAt: 2025-11-10 23:25:21 -0500 (Mon, 10 Nov 2025) EndedAt: 2025-11-10 23:25:50 -0500 (Mon, 10 Nov 2025) EllapsedTime: 29.7 seconds RetCode: 0 Status: OK PackageFile: MAGAR_1.18.0.tgz PackageFileSize: 1.707 MiB