Package: MADSEQ Version: 1.36.0 Command: /home/biocbuild/bbs-3.22-bioc/R/bin/R CMD INSTALL MADSEQ StartedAt: 2025-11-11 16:12:34 -0500 (Tue, 11 Nov 2025) EndedAt: 2025-11-11 16:12:34 -0500 (Tue, 11 Nov 2025) EllapsedTime: 0.2 seconds RetCode: 1 Status: ERROR