Package: MADSEQ Version: 1.34.0 Command: /home/biocbuild/R/R/bin/R CMD INSTALL MADSEQ StartedAt: 2025-10-13 20:56:58 -0000 (Mon, 13 Oct 2025) EndedAt: 2025-10-13 20:56:59 -0000 (Mon, 13 Oct 2025) EllapsedTime: 1.0 seconds RetCode: 1 Status: ERROR