Package: MADSEQ Version: 1.34.0 Command: /home/biocbuild/R/R/bin/R CMD build --keep-empty-dirs --no-resave-data MADSEQ StartedAt: 2025-10-14 02:03:56 -0000 (Tue, 14 Oct 2025) EndedAt: 2025-10-14 02:03:57 -0000 (Tue, 14 Oct 2025) EllapsedTime: 1.0 seconds RetCode: 1 Status: ERROR PackageFile: None PackageFileSize: NA