Package: MACSr Version: 1.18.0 Command: /home/biocbuild/bbs-3.22-bioc/R/bin/R CMD INSTALL MACSr StartedAt: 2025-11-11 15:30:26 -0500 (Tue, 11 Nov 2025) EndedAt: 2025-11-11 15:30:42 -0500 (Tue, 11 Nov 2025) EllapsedTime: 15.9 seconds RetCode: 0 Status: OK