Package: MACSr Version: 1.18.0 Command: /home/biocbuild/bbs-3.22-bioc/R/bin/R CMD check --install=check:MACSr.install-out.txt --library=/home/biocbuild/bbs-3.22-bioc/R/site-library --timings MACSr_1.18.0.tar.gz StartedAt: 2025-11-15 01:12:44 -0500 (Sat, 15 Nov 2025) EndedAt: 2025-11-15 01:17:09 -0500 (Sat, 15 Nov 2025) EllapsedTime: 264.3 seconds RetCode: 0 Status: OK CheckDir: MACSr.Rcheck Warnings: 0