Package: MACSr Version: 1.18.0 Command: /home/biocbuild/bbs-3.22-bioc/R/bin/R CMD build --keep-empty-dirs --no-resave-data --md5 MACSr StartedAt: 2025-11-11 18:30:45 -0500 (Tue, 11 Nov 2025) EndedAt: 2025-11-11 18:31:21 -0500 (Tue, 11 Nov 2025) EllapsedTime: 36.0 seconds RetCode: 0 Status: OK PackageFile: MACSr_1.18.0.tar.gz PackageFileSize: 5.114 MiB