Package: MACSr Version: 1.16.0 Command: /home/biocbuild/R/R/bin/R CMD INSTALL MACSr StartedAt: 2025-10-09 20:40:56 -0000 (Thu, 09 Oct 2025) EndedAt: 2025-10-09 20:41:18 -0000 (Thu, 09 Oct 2025) EllapsedTime: 21.8 seconds RetCode: 0 Status: OK