Package: MACSr Version: 1.16.0 Command: /home/biocbuild/R/R/bin/R CMD build --keep-empty-dirs --no-resave-data MACSr StartedAt: 2025-10-10 02:04:10 -0000 (Fri, 10 Oct 2025) EndedAt: 2025-10-10 02:05:07 -0000 (Fri, 10 Oct 2025) EllapsedTime: 57.0 seconds RetCode: 0 Status: OK PackageFile: MACSr_1.16.0.tar.gz PackageFileSize: 5.177 MiB