Package: MACSQuantifyR Version: 1.24.0 Command: /home/biocbuild/R/R/bin/R CMD INSTALL MACSQuantifyR StartedAt: 2025-11-10 21:16:06 -0000 (Mon, 10 Nov 2025) EndedAt: 2025-11-10 21:16:28 -0000 (Mon, 10 Nov 2025) EllapsedTime: 21.7 seconds RetCode: 0 Status: OK