Package: MACSQuantifyR Version: 1.24.0 Command: /home/biocbuild/R/R/bin/R CMD build --keep-empty-dirs --no-resave-data MACSQuantifyR StartedAt: 2025-11-14 02:53:55 -0000 (Fri, 14 Nov 2025) EndedAt: 2025-11-14 02:54:30 -0000 (Fri, 14 Nov 2025) EllapsedTime: 35.0 seconds RetCode: 0 Status: OK PackageFile: MACSQuantifyR_1.24.0.tar.gz PackageFileSize: 2.478 MiB