Package: MACSQuantifyR Version: 1.24.0 Command: /home/biocbuild/bbs-3.22-bioc/R/bin/R CMD INSTALL MACSQuantifyR StartedAt: 2025-11-13 15:11:28 -0500 (Thu, 13 Nov 2025) EndedAt: 2025-11-13 15:11:35 -0500 (Thu, 13 Nov 2025) EllapsedTime: 6.8 seconds RetCode: 0 Status: OK