Package: MACSQuantifyR Version: 1.24.0 Command: /home/biocbuild/bbs-3.22-bioc/R/bin/R CMD check --install=check:MACSQuantifyR.install-out.txt --library=/home/biocbuild/bbs-3.22-bioc/R/site-library --timings MACSQuantifyR_1.24.0.tar.gz StartedAt: 2025-11-12 01:04:05 -0500 (Wed, 12 Nov 2025) EndedAt: 2025-11-12 01:05:11 -0500 (Wed, 12 Nov 2025) EllapsedTime: 66.1 seconds RetCode: 0 Status: OK CheckDir: MACSQuantifyR.Rcheck Warnings: 0