Package: MACSQuantifyR Version: 1.24.0 Command: /home/biocbuild/bbs-3.22-bioc/R/bin/R CMD build --keep-empty-dirs --no-resave-data --md5 MACSQuantifyR StartedAt: 2025-11-13 18:28:52 -0500 (Thu, 13 Nov 2025) EndedAt: 2025-11-13 18:29:19 -0500 (Thu, 13 Nov 2025) EllapsedTime: 27.0 seconds RetCode: 0 Status: OK PackageFile: MACSQuantifyR_1.24.0.tar.gz PackageFileSize: 3.779 MiB