Package: MACSQuantifyR Version: 1.22.0 Command: /Library/Frameworks/R.framework/Resources/bin/R CMD INSTALL MACSQuantifyR StartedAt: 2025-09-25 15:18:27 -0400 (Thu, 25 Sep 2025) EndedAt: 2025-09-25 15:18:56 -0400 (Thu, 25 Sep 2025) EllapsedTime: 28.6 seconds RetCode: 0 Status: OK