Package: MACSQuantifyR Version: 1.22.0 Command: /Library/Frameworks/R.framework/Resources/bin/R CMD build --keep-empty-dirs --no-resave-data MACSQuantifyR StartedAt: 2025-09-25 20:09:09 -0400 (Thu, 25 Sep 2025) EndedAt: 2025-09-25 20:10:03 -0400 (Thu, 25 Sep 2025) EllapsedTime: 54.0 seconds RetCode: 0 Status: OK PackageFile: MACSQuantifyR_1.22.0.tar.gz PackageFileSize: 4.417 MiB